BEGIN:VCALENDAR
VERSION:2.0
PRODID:-//RIGHTHERE//CALENDARIZE IT V3.2//EN
BEGIN:VEVENT
UID:1315-events@www.friendsschoollisburn.org.uk
DTSTART;VALUE=DATE:20241202
DTEND;VALUE=DATE:20241205
DTSTAMP:20240910T094820Z
SUMMARY:Internal Assessments KS3
URL:https://www.friendsschoollisburn.org.uk/events/internal-assessments-ks3
 -2/
END:VEVENT
END:VCALENDAR