BEGIN:VCALENDAR
VERSION:2.0
PRODID:-//RIGHTHERE//CALENDARIZE IT V3.2//EN
BEGIN:VEVENT
UID:2075-events@www.friendsschoollisburn.org.uk
DTSTART;VALUE=DATE:20250625
DTEND;VALUE=DATE:20250628
DTSTAMP:20250603T093021Z
SUMMARY:Senior Robotics Trip to First Tech Challenge\, London
URL:https://www.friendsschoollisburn.org.uk/events/senior-robotics-trip-to-
 first-tech-challenge-london/
LOCATION:Outside of Friends' School Lisburn
END:VEVENT
END:VCALENDAR