BEGIN:VCALENDAR
VERSION:2.0
PRODID:-//RIGHTHERE//CALENDARIZE IT V3.2//EN
BEGIN:VEVENT
UID:2234-events@www.friendsschoollisburn.org.uk
DTSTART;VALUE=DATE:20260429
DTEND;VALUE=DATE:20260429
DTSTAMP:20250904T141421Z
SUMMARY:Year 9 Parent Teacher Consultation
URL:https://www.friendsschoollisburn.org.uk/events/year-9-parent-teacher-co
 nsultation/
LOCATION:Friends' School Lisburn
END:VEVENT
END:VCALENDAR