BEGIN:VCALENDAR
VERSION:2.0
PRODID:-//RIGHTHERE//CALENDARIZE IT V3.2//EN
BEGIN:VEVENT
UID:2289-events@www.friendsschoollisburn.org.uk
DTSTART;VALUE=DATE:20260525
DTEND;VALUE=DATE:20260525
DTSTAMP:20251007T101533Z
SUMMARY:Staff Development Day
URL:https://www.friendsschoollisburn.org.uk/events/staff-development-day-5/
LOCATION:Friends' School Lisburn
END:VEVENT
END:VCALENDAR